BEGIN:VCALENDAR
VERSION:2.0
PRODID:-//wp-events-plugin.com//7.2.3.1//EN
BEGIN:VEVENT
UID:67@campingveteranerna.se
DTSTART;VALUE=DATE:20170602
DTEND;VALUE=DATE:20170605
DTSTAMP:20170322T213640Z
URL:https://www.campingveteranerna.se/events/annaboda-3
SUMMARY:Ånnaboda
DESCRIPTION:I Ånnaboda blir det som vanligt.\n\nPå fredagen har vi korvgr
 illning ute vid utsiktsplatsen eller vid röda huset vid kl 20.\nPå lörd
 agen rundvandring på marknaden.\nEfter det blir det långbord vi hoppas p
 å bra väder.\nVi har även i år 30 platser till förfogande och de boka
 s senast den 30 April.\nEfter den datum släpps platserna.\nAnmälan till 
 Jan-Erik Bohman 0141-232118
LOCATION:Ånnaboda\, garphyttan\, ånnaboda\, Sverige
GEO:59.33726559999999;14.943572600000038
X-APPLE-STRUCTURED-LOCATION;VALUE=URI;X-ADDRESS=garphyttan\, ånnaboda\, Sv
 erige;X-APPLE-RADIUS=100;X-TITLE=Ånnaboda:geo:59.33726559999999,14.943572
 600000038
END:VEVENT
END:VCALENDAR