BEGIN:VCALENDAR
VERSION:2.0
PRODID:-//wp-events-plugin.com//7.2.3.1//EN
BEGIN:VEVENT
UID:84@campingveteranerna.se
DTSTART;VALUE=DATE:20190531
DTEND;VALUE=DATE:20190603
DTSTAMP:20190425T082832Z
URL:https://www.campingveteranerna.se/events/annaboda-classic-motor-festiv
 al
SUMMARY:Ånnaboda Classic motor festival
DESCRIPTION:Ånnaboda\n31 maj-2 juni\nPå fredagen har vi korvgrillning ute
  vid utsiksplatsen eller vid röda huset vid 20.\nPå lördagen rundvandri
 ng på marknaden.\nEfter det blir det långbord och vi hoppas på bra väd
 er.\nVilket det var förra året lite i varmaste laget.\nBåde gamla och n
 ya hälsas hjärtligt välkomna.\nVi har även i år 30 platser till förf
 ogande\noch bokas genom janne senast den 30 april.\nEfter det släpps plat
 serna till andra medlemmar. Först till kvarn...
ATTACH;FMTTYPE=image/jpeg:https://www.campingveteranerna.se/wp-content/upl
 oads/2018/12/Skärmklipp.jpg
LOCATION:Ånnaboda\, garphyttan\, ånnaboda\, Sverige
GEO:59.33726559999999;14.943572600000038
X-APPLE-STRUCTURED-LOCATION;VALUE=URI;X-ADDRESS=garphyttan\, ånnaboda\, Sv
 erige;X-APPLE-RADIUS=100;X-TITLE=Ånnaboda:geo:59.33726559999999,14.943572
 600000038
END:VEVENT
END:VCALENDAR