BEGIN:VCALENDAR
VERSION:2.0
PRODID:-//wp-events-plugin.com//7.2.3.1//EN
BEGIN:VEVENT
UID:61@campingveteranerna.se
DTSTART;VALUE=DATE:20170525
DTEND;VALUE=DATE:20170529
DTSTAMP:20170227T102221Z
URL:https://www.campingveteranerna.se/events/eccr-2017
SUMMARY:ECCR 2017
DESCRIPTION:Anmäl dig till klubbens ECCR-samordnare Per Jönsson via telef
 on 070-5115484 eller mail Pelleguldskkorta@gmail.com\n\n\nInformation frå
 n Arrangören hittar du här eccr2017\nRuttforslag till ECCR 2017\nRuttfor
 slag KARTOR\n
LOCATION:Camping de Bergen\, Zoetendaal 10\, Wanroij\, Nederländerna
GEO:51.6420843;5.8054664
X-APPLE-STRUCTURED-LOCATION;VALUE=URI;X-ADDRESS=Zoetendaal 10\, Wanroij\, N
 ederländerna;X-APPLE-RADIUS=100;X-TITLE=Camping de Bergen:geo:51.6420843,
 5.8054664
END:VEVENT
END:VCALENDAR