BEGIN:VCALENDAR
VERSION:2.0
PRODID:-//wp-events-plugin.com//7.2.3.1//EN
BEGIN:VEVENT
UID:19@campingveteranerna.se
DTSTART;VALUE=DATE:20140815
DTEND;VALUE=DATE:20140818
DTSTAMP:20140120T180134Z
URL:https://www.campingveteranerna.se/events/gotecampen-3
SUMMARY:GÖTECAMPEN  3
DESCRIPTION:VÄLKOMNA TILL\n\nGÖTECAMPEN 3 15-17 AUG I KUNGÄLV\n\nFREDAG 
 ANKOMST\n\nKL 18 Så blir info om träffen samt sedvanlig korv/bröd\n----
 -------------------------------------------------------------------\nLörd
 ag. Kl 11.30 samling vid bussen som tar oss till och från göteborg.\nVi 
 skall åka med paddanbåten en rundtur i göteborgs kanaler..\nEfter det s
 å tar vi oss till maritimam\n\nhttp://www.maritiman.se/fartygsflottan fö
 r att kolla in dessa båtar\nSenare på kvällen ca kl 19 så dukar vi lå
 ngbord och tänder grillen på campingen………\n-----------------------
 ------------------------------------------\nSöndag hemfärd\n------------
 ---------------------------------------------------\nCamping 250 kr / natt
  bet på plats\nMaritiman 100 kr / vuxen köpes på plats\nAnmälningsavgi
 ft 300 kr/vuxen Barn upp till 11 år 80 kr\nANMÄLAN TILL mail\ncrestamann
 en@hotmail.com\nOBS..OBS…\nANMÄLAN SENAST 1 JULI OBS..OBS..\nFÖR MER I
 NFO RING el mail Mob 0739558371
LOCATION:kungälvs vandrarhem\, Färjevägen 2\, kungälv\, Sverige
GEO:57.8625178;11.996152199999983
X-APPLE-STRUCTURED-LOCATION;VALUE=URI;X-ADDRESS=Färjevägen 2\, kungälv\,
  Sverige;X-APPLE-RADIUS=100;X-TITLE=kungälvs vandrarhem:geo:57.8625178,11
 .996152199999983
END:VEVENT
END:VCALENDAR