BEGIN:VCALENDAR
VERSION:2.0
PRODID:-//wp-events-plugin.com//7.2.3.1//EN
BEGIN:VEVENT
UID:48@campingveteranerna.se
DTSTART;VALUE=DATE:20150515
DTEND;VALUE=DATE:20150517
DTSTAMP:20150416T202724Z
URL:https://www.campingveteranerna.se/events/hus-pa-hjul
SUMMARY:Hus på Hjul
DESCRIPTION:Mer info på www.huspahjul.se eller facebooksidan  www.faceb
 ook.com/huspahjul\n\nHär hittar du inbjudan huspahjul_2015\n\n&nbsp\;
LOCATION:Norrköpings flygplats\, Norrköpings flygplats\, Norrköping\, 60
 361\, Sverige
GEO:58.58343900000001;16.233954799999992
X-APPLE-STRUCTURED-LOCATION;VALUE=URI;X-ADDRESS=Norrköpings flygplats\, No
 rrköping\, 60361\, Sverige;X-APPLE-RADIUS=100;X-TITLE=Norrköpings flygpl
 ats:geo:58.58343900000001,16.233954799999992
END:VEVENT
END:VCALENDAR