BEGIN:VCALENDAR
VERSION:2.0
PRODID:-//wp-events-plugin.com//7.2.3.1//EN
BEGIN:VEVENT
UID:53@campingveteranerna.se
DTSTART:20160715T160000Z
DTEND:20160717T120000Z
DTSTAMP:20160211T081207Z
URL:https://www.campingveteranerna.se/events/silverfozza-7
SUMMARY:silverfozza 7
DESCRIPTION:frukost lör sön el  camping 350kr per ekipage.OBS ingen korv
  på fredagen INGEN  dusch men man kan bada i kävlinge ån\n\n15 platser
  anmälan vi tel till mig hans schultz 0721650800. mer info kommer välkom
 mna
LOCATION:silverfosen folket park kävlinge\, kvarngatan\, kävlinge\, skån
 e\, Sverige
GEO:55.7905525;13.11724049999998
X-APPLE-STRUCTURED-LOCATION;VALUE=URI;X-ADDRESS=kvarngatan\, kävlinge\, sk
 åne\, Sverige;X-APPLE-RADIUS=100;X-TITLE=silverfosen folket park kävling
 e:geo:55.7905525,13.11724049999998
END:VEVENT
END:VCALENDAR