BEGIN:VCALENDAR
VERSION:2.0
PRODID:-//wp-events-plugin.com//7.2.3.1//EN
BEGIN:VEVENT
UID:54@campingveteranerna.se
DTSTART;VALUE=DATE:20160415
DTEND;VALUE=DATE:20160418
DTSTAMP:20160215T163922Z
URL:https://www.campingveteranerna.se/events/varcampen-2016
SUMMARY:Vårcampen 2016
DESCRIPTION:Vårcampen 2016\n\nVecka 15\, 15-17 April\n\nHej\n\nÄntligen g
 år vi mot ljusare tider och våren är snart här.\n\nLinderöds Camping 
 är målet för den här helgen. På fredagen är ni som vanligt välkomna
  när ni vill under dagen\, Kl.19:00 bli det gemensam samling då vi bjude
 r på korv\, bröd och öl eller cider\n\nLördag 16/4 Utflykt i egna bila
 r till Lanthandels muséum inkl. Fika och liten loppis. Därefter ett ”h
 emligt” besök innan vi åter kör tillbaka till campingen. Där blir de
 t under eftermiddagen en tipsrunda. På kvällen har vi gemensam grillning
 \, då vi också redovisar vinnare i tävlingen.\n\nSöndag 17/4\, Fri hem
 gång\n\nPriset för helgen inkl. camping är: 550\;-/Vagn (2 personer) Vi
 d fler än 2 personer tillkommer 100\;-/Person\n\nSenast anmälan och beta
 lning. 8/4\nBank: Länsförsäkringar Clearing: 9022 Konto nr: 1290445\nSk
 riv namn\, medlemsnummer och antal personer på din betalning\n\nHjärtlig
 t Välkomna\n\nAnita och Thomas\, Håkan och Karin
LOCATION:Linderöds Camping\, Hörbyvägen 7\, Linderöd\, 29011\, Sverige
GEO:55.92958375773925;13.820335655541953
X-APPLE-STRUCTURED-LOCATION;VALUE=URI;X-ADDRESS=Hörbyvägen 7\, Linderöd\
 , 29011\, Sverige;X-APPLE-RADIUS=100;X-TITLE=Linderöds Camping:geo:55.929
 58375773925,13.820335655541953
END:VEVENT
END:VCALENDAR