BEGIN:VCALENDAR
VERSION:2.0
PRODID:-//wp-events-plugin.com//7.2.3.1//EN
BEGIN:VEVENT
UID:127@campingveteranerna.se
DTSTART;VALUE=DATE:20230526
DTEND;VALUE=DATE:20230529
DTSTAMP:20230416T141313Z
URL:https://www.campingveteranerna.se/events/vargoken-5
SUMMARY:Vårgöken
DESCRIPTION:Vårgöken\nÅrets träff på Hedesunda camping  är planerad 
 till 26-28 Maj.\n\nVi träffas och njuter av den beställda vårsolen.\n\n
 Föranmäl er till mig:\n\nKarl-arne lindström 070 3508869 eller k.arneli
 ndstrom@gmail.com\n\n&nbsp\;\n\n&nbsp\;\n\n&nbsp\;\n\n&nbsp\;
LOCATION:Hedesunda Camping\, Övägen 68 \, hedesunda\, Sverige
GEO:60.3507164;17.021666099999947
X-APPLE-STRUCTURED-LOCATION;VALUE=URI;X-ADDRESS=Övägen 68 \, hedesunda\, 
 Sverige;X-APPLE-RADIUS=100;X-TITLE=Hedesunda Camping:geo:60.3507164,17.021
 666099999947
END:VEVENT
END:VCALENDAR