BEGIN:VCALENDAR
VERSION:2.0
PRODID:-//wp-events-plugin.com//7.2.3.1//EN
BEGIN:VEVENT
UID:40@campingveteranerna.se
DTSTART;VALUE=DATE:20150424
DTEND;VALUE=DATE:20150427
DTSTAMP:20150219T071015Z
URL:https://www.campingveteranerna.se/events/veteranmarknad-i-nossebro
SUMMARY:veteranmarknad i Nossebro
DESCRIPTION:i samband med veteranmarknaden i nossebro så träffas vi på d
 jupsås folkpark\ndär vi campar i dagarna 2.\nDet finns mycket av det kul
 turella slaget i dessa trakter att spana in.\nanmälan göres via mail ti
 ll janne öberg\n\ncrestamannen@hotmail.com\nmob  0739558371
LOCATION:Festplatsen i Djupsås\, Djupsås\, Nossebro\, Sverige
GEO:58.154554725100326;12.74968438752444
X-APPLE-STRUCTURED-LOCATION;VALUE=URI;X-ADDRESS=Djupsås\, Nossebro\, Sveri
 ge;X-APPLE-RADIUS=100;X-TITLE=Festplatsen i Djupsås:geo:58.15455472510032
 6,12.74968438752444
END:VEVENT
END:VCALENDAR